BEGIN:VCALENDAR
VERSION:2.0
PRODID:-//Stowe Nine Churches Parish Council//Meeting Calendar//EN
CALSCALE:GREGORIAN
METHOD:PUBLISH
BEGIN:VEVENT
UID:70364-20210913@stoweninechurches-pc.gov.uk
DTSTAMP:20260419T142008Z
DTSTART;VALUE=DATE:20210913
DTEND;VALUE=DATE:20210914
SUMMARY:Council Meeting &#8211\\; 13th September 2021
DESCRIPTION:Full Council Meeting\nView details: https://stoweninechurches-pc.gov.uk/meetings/council-meeting-13th-september-2021/
URL:https://stoweninechurches-pc.gov.uk/meetings/council-meeting-13th-september-2021/
END:VEVENT
END:VCALENDAR
