BEGIN:VCALENDAR
VERSION:2.0
PRODID:-//Stowe Nine Churches Parish Council//Meeting Calendar//EN
CALSCALE:GREGORIAN
METHOD:PUBLISH
BEGIN:VEVENT
UID:70354-20210419@stoweninechurches-pc.gov.uk
DTSTAMP:20260420T081537Z
DTSTART;VALUE=DATE:20210419
DTEND;VALUE=DATE:20210420
SUMMARY:Council Meeting &#8211\\; 19th April 2021
DESCRIPTION:Full Council Meeting\nView details: https://stoweninechurches-pc.gov.uk/meetings/council-meeting-19th-april-2021/
URL:https://stoweninechurches-pc.gov.uk/meetings/council-meeting-19th-april-2021/
END:VEVENT
END:VCALENDAR
