BEGIN:VCALENDAR
VERSION:2.0
PRODID:-//Stowe Nine Churches Parish Council//Meeting Calendar//EN
CALSCALE:GREGORIAN
METHOD:PUBLISH
BEGIN:VEVENT
UID:70352-20210310@stoweninechurches-pc.gov.uk
DTSTAMP:20260420T094416Z
DTSTART;VALUE=DATE:20210310
DTEND;VALUE=DATE:20210311
SUMMARY:Council Meeting &#8211\\; 10th March 2021
DESCRIPTION:Full Council Meeting\nView details: https://stoweninechurches-pc.gov.uk/meetings/council-meeting-10th-march-2021/
URL:https://stoweninechurches-pc.gov.uk/meetings/council-meeting-10th-march-2021/
END:VEVENT
END:VCALENDAR
